BEGIN:VCALENDAR
VERSION:2.0
PRODID:-//Jesús Ortega Coach Emocional - ECPv5.4.0.2//NONSGML v1.0//EN
CALSCALE:GREGORIAN
METHOD:PUBLISH
X-WR-CALNAME:Jesús Ortega Coach Emocional
X-ORIGINAL-URL:https://jesuscoaching.es
X-WR-CALDESC:Eventos para Jesús Ortega Coach Emocional
BEGIN:VTIMEZONE
TZID:UTC
BEGIN:STANDARD
TZOFFSETFROM:+0000
TZOFFSETTO:+0000
TZNAME:UTC
DTSTART:20220101T000000
END:STANDARD
END:VTIMEZONE
BEGIN:VEVENT
DTSTART;TZID=UTC:20221113T100100
DTEND;TZID=UTC:20221113T193000
DTSTAMP:20260421T124317
CREATED:20210531T190116Z
LAST-MODIFIED:20221016T113208Z
UID:7639-1668333660-1668367800@jesuscoaching.es
SUMMARY:13 nov - DESPEDIDA del Taller "AUTOESTÍMATE" Presencial - 14ª Edición
DESCRIPTION:DOMINGO 13 NOVIEMBRE – Taller «AUTOESTIMATE» Presencial 14ª Edición – Autoestima\, Asertividad e Independencia Emocional.  \nMi mayor descubrimiento en los últimos 10 años es que nuestra Autoestima está en nuestras propias manos y que no cuidarla entorpece nuestras relaciones con los demás y por supuesto con nosotros mismos y nuestra salud emocional. Si eres consciente de tu propio estado emocional estarás en condiciones de cambiarlo desde tu propia voluntad y en el momento que quieras. \nCada día hay más personas que están siendo conscientes de que la motivación\, la autoestima tiene mucha importancia para poder vivir bien de forma personal\, social\, familiar y laboral. \nEste taller es útil para cualquier interesado/a en tener una perspectiva general sobre la Autoestima\, Asertividad e Independencia Emocional y orientado a cualquier persona que esté en búsqueda de su propia felicidad y bienestar. El taller en si y sus herramientas será una poderosa manera de relacionarte contigo mismo/a y tener una comunicación fluida que te llevará a una mejora innegable en tus relaciones con los demás. \nLo dividiremos en 3 MÓDULOS claramente separados y ordenado de forma orgánica a lo largo de las 8 horas de este taller. \n\n  \nMÓDULO 1 – AUTOESTIMA: En este Módulo te voy a ofrecer apoyo para comprenderte a ti mismo/a. Miraremos que hay detrás de sentirse menos que los demás\, de donde vienen esos sentimientos y porqué algunas personas se sienten tímidas\,  inferiores\,  torpes\, etc… a cambio  podrás descubrir un buen número de fortalezas y riquezas que tienes dentro de ti a la espera de sacarlas fuera. \nAprenderemos a conocernos\, a querernos y valorarnos\, de esta manera saldrá nuestro verdadero yo\, nuestra valía como persona que tenemos todos como seres humanos que somos. \nTrabajaremos la Autoestima a través de ejercicios prácticos\, test y dinámicas que después. Después te facilitaré herramientas para inflar y mejorar tu autoestima. \nMÓDULO 2 – ASERTIVIDAD: Una de las cosas que más nos cuesta es decir NO y poner límites o pensar primero en nosotros y por el contrario ponemos a las personas de nuestra vida en primer lugar relegándonos nosotros y así perdemos el poder de nuestra autoestima\, de nuestras propias decisiones.  Una vez que hayamos trabajado la Autoestima y técnicas para inflarla\, trabajar la asertividad es un importante paso más allá. \nEn este taller no sólo te aportaré herramientas prácticas\, sino que a través de diferentes medios audiovisuales podrás identificar cuál es tu relación contigo\, con la asertividad y adquirir técnicas para poder comunicar lo que tú quieres sin miedos\, sin culpa\, haciéndote respetar y asimismo pedir lo que te corresponde. \nTrabajaremos uno a uno los Derechos Asertivos que te proporcionarán normalidad y seguridad para ponerte en tu lugar en la relación con los demás. \nMÓDULO 3 – INDEPENDENCIA EMOCIONAL: Después de haber creado unos buenos cimientos con los Módulos de Autoestima y Asertividad\, este es el complemento ideal cerrando esta trilogía. El propósito fundamental de este 3er Módulo es TU LIBERTAD. En este último Módulo también aprenderemos a detectar nuestras Dependencias  Emocionales y encontraremos claves para entender tus relaciones de forma diferente\, pero sobre todo\, aprenderemos a ser personas independientes\, que te cuides\, respetes\, elijas por ti mismo/a y confíes en ti y en tus propios criterios por encima del de los demás\, sin ignorarlos aunque sin dejar que ello te afecte o te anule \nEs una oportunidad para descubrir las herramientas que necesitas para ser independiente emocional y sentirte libre. Desde tu independencia emocional serás libre de elegir la manera en que quieres relacionarte con los demás. \n\n  \nEl precio de este taller de 8 horas está reducido a 5 €/hora de formación para que te sea accesible: 40 €.  \nPuedes inscribirte haciendo una transferencia a la siguiente cuenta indicando en el concepto «Autoestima» + «tu nombre» + «teléfono» (por ejemplo\, “Autoestima Jesús Ortega 695 663 005”) \nPOR TRANSFERENCIA O INGRESO EN CAJERO: \nES11 2100 8457 3802 0004 3142   (La Caixa\, Titular: Manuel Jesús Ortega Cámara.) \nPOR BIZUM: Enviándolo a través del teléfono 695 663 005 \n\n  \nPrecio Normal: 40 € Taller vivencial. \nDos: 70 € (viniendo en pareja – 2 personas). \nFecha: Domingo 13 de noviembre. \nHorario: de 10:00 – 14:00 h y de 16:00 – 20:00 h. \nESTE TALLER SÓLO SE REALIZARÁ SI HAY UN MÍNIMO DE 8 PARTICIPANTES  \n \nLugar: Pleniestudio\, Centro Integral de Formación \nParque empresarial Nuevo Torneo\, Edf Vilamar I 2ª Planta\, Oficinas 7 y 9. \nAvda. Tecnología\, 26. 41015 – Sevilla. \nUBICACIÓN PLENIESTUDIO – PINCHA AQUÍ \n  \nContacto sólo por WhatsApp o SMS al 695 663 005 (no llamadas) – poniendo nombre tu nombre y me pondré en contacto contigo lo antes posible. \n¡Nos vemos pronto! \nJesús Ortega Coach \nIMPORTANTE –  Las cantidades transferidas no son desembolsables a excepción de que se solicite con 7 días de antelación a la celebración del taller. En caso de no poder asistir al taller inscrito\, el/la participante podrá optar por asistir a otro taller de los programados en el plazo de 90 días o bien hacer una subrogación a otra persona para el taller inscrito o bien para otro posterior en 90 días. \nNOTA – Jesús Ortega Coaching se reserva la opción de cancelar este taller en caso de no cubrir un número suficiente de inscritos. En ese caso Jesús Ortega Coaching se compromete a la devolución de lo pagado a los que ya estuvieran inscritos. \n 
URL:https://jesuscoaching.es/event/autoestimate-jesus-ortega-coach/
CATEGORIES:Autoestima,Coaching,Inteligencia Emocional,Presencial
ATTACH;FMTTYPE=image/jpeg:https://jesuscoaching.es/wp-content/uploads/2021/05/Taller-priorizate-ultima.jpg
END:VEVENT
BEGIN:VEVENT
DTSTART;TZID=UTC:20221114T170000
DTEND;TZID=UTC:20221114T190000
DTSTAMP:20260421T124317
CREATED:20221108T121721Z
LAST-MODIFIED:20221115T101637Z
UID:9179-1668445200-1668452400@jesuscoaching.es
SUMMARY:15 nov – Taller GRATUITO “Matriz de Personalidad” y comunicación efectiva en relaciones -  17 a 19 h
DESCRIPTION:MARTES 15 NOV – Te invito a este Taller GRATUITO «MATRIZ DE PERSONALIDAD y comunicación efectiva en relaciones». Existen varios sistemas para el entendimiento de nuestro estilo de comportamiento así como el de otras personas. Te quiero presentar MATRIX\, un test de matriz de personalidad basado en cuatro estilos diferentes. \nEsta es una poderosa herramienta que te permitirá entender cuál es tu patrón de comportamiento y el de las personas con las que convives. De esta manera podrás comprender y aceptar  que es lo que funciona y lo que no funciona de ti y de los demás. Así tu comunicación con otras personas será más fluida y relajada en base al conocimiento de estas matrices de personalidad. \n¿Tienes en tu vida personas que no entiendes?. ¿Tienes en tu vida personas con las que tan sólo comunicarte sientes fricción?. ¿Ves en otras personas una manera de ver la vida que no entiendes y es totalmente diferente a la tuya?. \nEs importante matizar que no hay matrices correctas o incorrectas\, sólo diferentes\, por lo que ninguna de ellas debe considerarse buena o mala. De hecho\, todos tenemos algo de cada una de estas matrices y las utilizamos de diferente manera a lo largo de nuestros días\, aunque predomine en nosotros alguna de ella en particular. \nIMPORTANTE: Veremos cómo el conocimiento y comprensión de nuestra Matriz de personalidad y la de las personas que forman nuestro entorno de relaciones\, familia\, pareja\, amigos… nos podrá aportar herramientas para frecuenciar en la misma onda nuestra comunicación para una mejor relación con los demás y con nosotros mismos. \nLa mejor manera de conocer esto que te cuento es asistir a este taller. Haremos un test y una vez que conozcas tu matriz de personalidad entenderás que es lo que pasa en tu vida con tu comunicación con la gente que te rodea. \nA lo largo de 2 horas y de forma presencial podrás conocer de manera específica y tangible el mecanismo por el que funciona la Inteligencia Emocional y qué hacer para gestionarla para conseguir el éxito y la felicidad. Es una herramienta sencilla y muy útil. \n¿Sabes qué estilo de personalidad utilizas? ¿Qué pasaría si tuvieras esta herramienta y técnicas para afrontar la comunicación con otras personas? … ¿Te gustaría conocerlas y ponerlas en práctica?… Pide una invitación! \n  \n\n  \nIMPORTANTE: Reserva tu plaza por WhatsApp o SMS (no llamadas) al 695 663 005 con la palabra «MATRIX + tu nombre + teléfono» (Ejemplo: MATRIX Jesús 695 663 005) – y me pondré en contacto contigo lo antes posible. \nPrecio: GRATUITO CON RESERVA \nFecha: martes 15 de noviembre. \nHorario: de 17:00 a 19:00 h. (Se ruega asistir de 16:30 a 17:00 h para cumplimentar en REGISTRO) \n\n  \nESTE TALLER SÓLO SE REALIZARÁ SI HAY UN MÍNIMO DE 12 PARTICIPANTES  \nLUGAR DE LOS TALLERES DE DOMINGO: \n \nLugar: Pleniestudio\, Centro Integral de Formación \nParque empresarial Nuevo Torneo\, Edf Vilamar I 2ª Planta\, Oficinas 7 y 9. \nAvda. Tecnología\, 26. 41015 – Sevilla. \nUBICACIÓN PLENIESTUDIO – PINCHA AQUÍ \n  \n  \n¡Nos vemos pronto! \nJesús Ortega Coach \nNOTA – Jesús Ortega Coaching se reserva la opción de cancelar este taller en caso de no cubrir un número suficiente de inscritos. En ese caso Jesús Ortega Coaching se compromete a la devolución de lo pagado a los que ya estuvieran inscritos. \n 
URL:https://jesuscoaching.es/event/matriz-personalidad-gratuito/
CATEGORIES:Autoestima,Coaching,Crecimiento Personal,Inteligencia Emocional,Presencial
ATTACH;FMTTYPE=image/jpeg:https://jesuscoaching.es/wp-content/uploads/2022/11/Matrix-Gratuito.jpg
END:VEVENT
BEGIN:VEVENT
DTSTART;TZID=UTC:20221121T170000
DTEND;TZID=UTC:20221121T200000
DTSTAMP:20260421T124317
CREATED:20210712T073925Z
LAST-MODIFIED:20221124T142412Z
UID:7988-1669050000-1669060800@jesuscoaching.es
SUMMARY:24 nov - Taller GRATUITO “VIVIR CON ADOLESCENTES" para Madres y Padres
DESCRIPTION:JUEVES 24 noviembre – Te invito a este Taller Online «VIVIR CON ADOLESCENTES». El propósito de este taller es aportarte mi propia experiencia como «Familia de acogida de varios adolescentes» y mi formación en Inteligencia Emocional y Coaching\, las herramientas necesarias para hacer de la convivencia satisfactoria en casa con adolescentes. Nadie te habrá hablado así de los ADOLESCENTES.  \nEn cuanto a este taller VIVIR CON ADOLESCENTES: Si te preguntara… ¿sabes por qué los adolescentes cambian tanto al crecer?… ¿sabes por qué se aíslan? … ¿sabes por qué aparecen los conflictos? ¿Por qué la comunicación con ellos se tensa?  ¿no? pues cálmate\, es normal. Con el crecimiento natural hormonal\, emocional y social\, el ser adolescente entra en una dinámica de desapego y va perdiendo el interés por los asuntos familiares. Forma parte de su desarrollo natural. ¿Qué es lo que ha pasado?… pues nada\, que dejamos de ser niños y comenzamos a ser adultos y se activa nuestro sistema de supervivencia subconsciente. \nTambién te puede estar pasando que te propones poner límites y te cuesta una discusión en la que normalmente crees perder. No pasa nada\, en realidad le pasa a muchos padres. \n¿Qué pasaría si tuvieras herramientas y técnicas para afrontar la comunicación con tus hijos adolescentes? … ¿Te gustaría conocerlas y ponerlas en práctica?… pues ven a este taller \n\n  \nA lo largo de 2 horas aprox. y de forma presencial podrás conocer de manera específica y tangible el mecanismo y las herramientas del tema que nos ocupa en este taller. \n\n  \nIMPORTANTE: Reserva tu plaza por WhatsApp o SMS (no llamadas) al 695 663 005 con la palabra «TEN + tu nombre + teléfono» (Ejemplo: TEN Jesús 695 663 005) – y me pondré en contacto contigo lo antes posible. \nPrecio: GRATUITO con RESERVA \nFecha: jueves 24 de noviembre. \nHorario: de 17:00 a 20:00 h. (Registro a partir de las 16:30 h) \n\n  \nESTE TALLER SÓLO SE REALIZARÁ SI HAY UN MÍNIMO DE 12 PARTICIPANTES  \nLUGAR DE LOS TALLERES DE DOMINGO: \n \nLugar: Pleniestudio\, Centro Integral de Formación \nParque empresarial Nuevo Torneo\, Edf Vilamar I 2ª Planta\, Oficinas 7 y 9. \nAvda. Tecnología\, 26. 41015 – Sevilla. \nUBICACIÓN PLENIESTUDIO – PINCHA AQUÍ \n  \n  \n¡Nos vemos pronto! \nJesús Ortega Coach \nNOTA – Jesús Ortega Coaching se reserva la opción de cancelar este taller en caso de no cubrir un número suficiente de inscritos. En ese caso Jesús Ortega Coaching se compromete a la devolución de lo pagado a los que ya estuvieran inscritos. \n 
URL:https://jesuscoaching.es/event/vivir-adolescentes-jesus-ortega/
CATEGORIES:Autoestima,Coaching,Inteligencia Emocional,Presencial
ATTACH;FMTTYPE=image/jpeg:https://jesuscoaching.es/wp-content/uploads/2021/07/Vivir-con-Adolescentes.jpg
END:VEVENT
BEGIN:VEVENT
DTSTART;TZID=UTC:20221123T100000
DTEND;TZID=UTC:20221123T193000
DTSTAMP:20260421T124317
CREATED:20210708T091020Z
LAST-MODIFIED:20221124T142331Z
UID:7968-1669197600-1669231800@jesuscoaching.es
SUMMARY:11 dic - DESPEDIDA del Taller "PRIORÍZATE" 16ª Edición - Presencial
DESCRIPTION:Domingo 11 diciembre – 16ª Edición de despedida para siempre del Taller «PRIORÍZATE» – piensas antes en los demás\, y tú ¿para cuándo?.  El recorrido de este taller comienza antes de la propia biología\, incluso antes de nacer y tras los 9 meses de gestación hasta el nacimiento de cada individuo. Durante el taller de 8 horas y media haremos un recorrido desde ese primer momento hasta el momento actual de cada uno de los asistentes\, sea cual sea su edad actual. En este recorrido el/la participante podrá ir descubriendo como el desarrollo de su propio YO puede estar condicionando su relación consigo mism@ y como consecuencia la relación con las personas que forman su vida familiar\, sus amistades e incluso sus relaciones en el ámbito laboral/profesional. \nEl taller está estructurado de manera que siendo vivencial y participativo\, a través de diferentes dinámicas y test iremos tratando varios temas en el siguiente orden. \nApego\, Desarrollo Emocional\, PNL\, Inteligencia Emocional\, Autoestima\, Asertividad\, Habilidades sociales\, Acuerdos\, Necesidades afectivas\, Dignidad y autoempatía\, Negociación en relaciones\, Mediación. \nLa base metodológica del taller está basada en la Inteligencia Emocional\, P.N.L: (Programación neurolinüística)\, Gestalt y Coaching que serán la base de las herramientas que utilizaremos durante el taller. \nDurante 8 horas repartidas en bloques de 2 horas aproximadamente durante el día\, podrás descubrir herramientas de Inteligencia Emocional y de Coaching. \n\n  \nEl precio de este taller de 8 horas está reducido a 5 €/hora de formación para que te sea accesible: 40 €.  \nPuedes inscribirte haciendo una transferencia a la siguiente cuenta indicando en el concepto «PT» + «tu nombre» + «teléfono» (por ejemplo\, “PT Jesús Ortega 695 663 005”) \nPOR TRANSFERENCIA O INGRESO EN CAJERO: \nES11 2100 8457 3802 0004 3142   (La Caixa\, Titular: Manuel Jesús Ortega Cámara.) \nPOR BIZUM: Enviándolo a través del teléfono 695 663 005 \n\n  \nPrecio Normal: 40 € Taller vivencial. \nDos: 70 € (viniendo en pareja – 2 personas). \nFecha: Domingo 11 de diciembre. \nHorario: de 10:00 – 14:00 h y de 15:30 – 19:30 h. \nESTE TALLER SÓLO SE REALIZARÁ SI HAY UN MÍNIMO DE 8 PARTICIPANTES  \n \nLugar: Pleniestudio\, Centro Integral de Formación \nParque empresarial Nuevo Torneo\, Edf Vilamar I 2ª Planta\, Oficinas 7 y 9. \nAvda. Tecnología\, 26. 41015 – Sevilla. \nUBICACIÓN PLENIESTUDIO – PINCHA AQUÍ \n  \nContacto sólo por WhatsApp o SMS al 695 663 005 (no llamadas) – poniendo nombre tu nombre y me pondré en contacto contigo lo antes posible. \n¡Nos vemos pronto! \nJesús Ortega Coach \nIMPORTANTE –  Las cantidades transferidas no son desembolsables a excepción de que se solicite con 7 días de antelación a la celebración del taller. En caso de no poder asistir al taller inscrito\, el/la participante podrá optar por asistir a otro taller de los programados en el plazo de 90 días o bien hacer una subrogación a otra persona para el taller inscrito o bien para otro posterior en 90 días. \nNOTA – Jesús Ortega Coaching se reserva la opción de cancelar este taller en caso de no cubrir un número suficiente de inscritos. En ese caso Jesús Ortega Coaching se compromete a la devolución de lo pagado a los que ya estuvieran inscritos. \n 
URL:https://jesuscoaching.es/event/taller-priorizate-jesus-ortega-coach/
CATEGORIES:Autoestima,Coaching,Inteligencia Emocional,Presencial
ATTACH;FMTTYPE=image/jpeg:https://jesuscoaching.es/wp-content/uploads/2021/07/Taller-priorizate-Despedida.jpg
END:VEVENT
END:VCALENDAR