BEGIN:VCALENDAR
VERSION:2.0
PRODID:-//Jesús Ortega Coach Emocional - ECPv5.4.0.2//NONSGML v1.0//EN
CALSCALE:GREGORIAN
METHOD:PUBLISH
X-WR-CALNAME:Jesús Ortega Coach Emocional
X-ORIGINAL-URL:https://jesuscoaching.es
X-WR-CALDESC:Eventos para Jesús Ortega Coach Emocional
BEGIN:VTIMEZONE
TZID:UTC
BEGIN:STANDARD
TZOFFSETFROM:+0000
TZOFFSETTO:+0000
TZNAME:UTC
DTSTART:20220101T000000
END:STANDARD
END:VTIMEZONE
BEGIN:VEVENT
DTSTART;TZID=UTC:20220706T180000
DTEND;TZID=UTC:20220706T200000
DTSTAMP:20260421T191304
CREATED:20220627T115320Z
LAST-MODIFIED:20220630T123317Z
UID:8774-1657130400-1657137600@jesuscoaching.es
SUMMARY:6 jul – “Matriz de Personalidad” – Tarde Verde Online
DESCRIPTION:MIÉRCOLES 6 JULIO – Programado este Taller Online «Matriz de Personalidad». Existen varios sistemas para el entendimiento de nuestro estilo de comportamiento así como el de otras personas. Te quiero presentar MATRIX\, un test de matriz de personalidad basado en cuatro estilos diferentes. \nEsta es una poderosa herramienta que te permitirá entender cuál es tu patrón de comportamiento y el de las personas con las que convives. De esta manera podrás comprender y aceptar  que es lo que funciona y lo que no funciona de ti y de los demás. Así tu comunicación con otras personas será más fluida y relajada en base al conocimiento de estas matrices de personalidad. \n¿Tienes en tu vida personas que no entiendes?. ¿Tienes en tu vida personas con las que tan sólo comunicarte sientes fricción?. ¿Ves en otras personas una manera de ver la vida que no entiendes y es totalmente diferente a la tuya?. \nEs importante matizar que no hay matrices correctas o incorrectas\, sólo diferentes\, por lo que ninguna de ellas debe considerarse buena o mala. De hecho\, todos tenemos algo de cada una de estas matrices y las utilizamos de diferente manera a lo largo de nuestros días\, aunque predomine en nosotros alguna de ella en particular. \nLa mejor manera de conocer esto que te cuento es asistir a este taller. Haremos un test y una vez que conozcas tu matriz de personalidad entenderás que es lo que pasa en tu vida con tu comunicación con la gente que te rodea. \nA lo largo de 2 horas y de forma online podrás conocer de manera específica y tangible el mecanismo por el que funciona la Inteligencia Emocional y qué hacer para gestionarla para conseguir el éxito y la felicidad. Es una herramienta sencilla y muy útil. \n¿Qué pasaría si tuvieras esta herramienta y técnicas para afrontar la comunicación con otras personas? … ¿Te gustaría conocerlas y ponerlas en práctica?… pues conéctate! \n  \nCONEXIÓN EN DIRECTO A TRAVÉS DE GOOGLE MEET \n\n  \nA lo largo de 2 horas aprox. y de forma online podrás conocer de manera específica y tangible el mecanismo y las herramientas del tema que nos ocupa en este taller. \n\n  \nIMPORTANTE: Reserva tu plaza por WhatsApp o SMS (no llamadas) al 637 619 997 con la palabra «VERDE + tu nombre + teléfono» (Ejemplo: VERDE Jesús 637 619 997) – y me pondré en contacto contigo lo antes posible. \nPrecio: 14 € \nFecha: miércoles 6 de julio. \nHorario: de 18:00 a 20:00 h. (Enviaré el enlace para la conexión a las 17:45 h para que te conectes cuando quieras) \n\n  \nFORMAS DE PAGO DE LA RESERVA: \nPago por Transferencia: a la cuenta La Caixa \nIBAN: ES24 2100 8457 3102 0008 9714 \nTITULAR: La Caixa  Coaching Cordis\, S.L. \n___________________________________ \nPago por Bizum: Envío por móvil con al  número 695 663 005 \n___________________________________ \nIngreso en cajero de Caixa: Ingreso directo (sin comisión) en cajero de Caixa. Muy importante poner tu  número de móvil para poder localizarte. \n\n  \nESTE TALLER SÓLO SE REALIZARÁ SI HAY UN MÍNIMO DE 6 PARTICIPANTES  \n¡Nos vemos pronto! \nJesús Ortega Coach \nIMPORTANTE –  Las cantidades transferidas no son desembolsables a excepción de que se solicite con 7 días de antelación a la celebración del taller. En caso de no poder asistir al taller inscrito\, el/la participante podrá optar por asistir a otro taller de los programados en el plazo de 90 días o bien hacer una subrogación a otra persona para el taller inscrito o bien para otro posterior en 90 días. \nNOTA – Jesús Ortega Coaching se reserva la opción de cancelar este taller en caso de no cubrir un número suficiente de inscritos. En ese caso Jesús Ortega Coaching se compromete a la devolución de lo pagado a los que ya estuvieran inscritos. \n 
URL:https://jesuscoaching.es/event/matriz-personalidad-tarde-verde-online/
CATEGORIES:Autoestima,Coaching,Crecimiento Personal,Inteligencia Emocional,Online
ATTACH;FMTTYPE=image/jpeg:https://jesuscoaching.es/wp-content/uploads/2022/06/Matrix-Verde-OnLine-web.jpg
END:VEVENT
BEGIN:VEVENT
DTSTART;TZID=UTC:20220724T180000
DTEND;TZID=UTC:20220724T200000
DTSTAMP:20260421T191304
CREATED:20220710T175752Z
LAST-MODIFIED:20220725T182500Z
UID:8810-1658685600-1658692800@jesuscoaching.es
SUMMARY:3 ago -  "EMOCIÓN Y PENSAMIENTO" - Tardes Verdes Online
DESCRIPTION:MIÉRCOLES 3 AGOSTO – Te presento el Taller Online «EMOCIÓN Y PENSAMIENTO». El propósito de este taller es aportarte una serie de herramientas fundamentales para la Gestión Emocional y cómo utilizar tu cerebro para elegir tus sentimientos. Estará enfocado desde las Competencias de Inteligencia Emocional y Coaching\, \nConoceremos las emociones básicas\, el reconocimiento y el propósito de las mismas. Trabajaremos el reconocimiento de las 6 emociones básicas y los cambios fisiológicos asociados a ellas. \nTambién se trabajará la información que traen asociada cada emoción básica y cómo usarla en la consecución de nuestros objetivos y metas. \nTrataremos las competencias de Inteligencia Emociona como conductoras hacia el éxito. Concretamente la importancia de tener un fin en mente y la Responsabilidad como motor de resultados extraordinarios en el ámbito laboral y personal. \nEstamos educados en la creencia de que las cosas “son como son”\, sin embargo\, son muchas las veces en que chocamos con la “realidad” de otros y podemos encontrar un desajuste grande entre lo que percibimos y el feedback que la realidad nos devuelve. Uno de los supuestos básicos de  la PNL (Programación Neurolingüística) nos dice que el mapa no es el territorio\, y que este “mapa” interior viene determinado por una serie de procesos que distorsionan dicha percepción. \nPara ser personas emocionalmente inteligentes requerimos estar alertas a cuáles son las interpretaciones   que generan nuestros sentimientos para poder elegir aquellos sentimientos que nos van a hacer realmente felices. Entrenar la mente para evitar el “secuestro emocional” (Daniel Goleman\, Inteligencia Emocional) puede entenderse como la base de la inteligencia emocional y\, por lo tanto\, del éxito y la felicidad. \n¿Quieres ser efectivo a la hora de gestionar tus emociones?\, ¿te gustaría gestionar tus emociones y pensamientos para el resultado que quieres obtener? ¿Cómo sería generar sentimientos saludables que te lleven a ser feliz? \nCONEXIÓN EN DIRECTO A TRAVÉS DE GOOGLE MEET \n\n  \nA lo largo de 2 horas aprox. y de forma online podrás conocer de manera específica y tangible el mecanismo y las herramientas del tema que nos ocupa en este taller. \n\n  \nIMPORTANTE: Reserva tu plaza por WhatsApp o SMS (no llamadas) al 637 619 997 con la palabra «VERDE + tu nombre + teléfono» (Ejemplo: VERDE Jesús 637 619 997) – y me pondré en contacto contigo lo antes posible. \nPrecio: 14 € \nFecha: miércoles 3 de agosto. \nHorario: de 18:00 a 20:00 h. (Enviaré el enlace para la conexión a las 17:45 h para que te conectes cuando quieras) \n\n  \nFORMAS DE PAGO DE LA RESERVA: \nPago por Transferencia: a la cuenta La Caixa \nIBAN: ES24 2100 8457 3102 0008 9714 \nTITULAR: La Caixa  Coaching Cordis\, S.L. \n___________________________________ \nPago por Bizum: Envío por móvil con al  número 695 663 005 \n___________________________________ \nIngreso en cajero de Caixa: Ingreso directo (sin comisión) en cajero de Caixa. Muy importante poner tu  número de móvil para poder localizarte. \n\n  \nESTE TALLER SÓLO SE REALIZARÁ SI HAY UN MÍNIMO DE 6 PARTICIPANTES  \n¡Nos vemos pronto! \nJesús Ortega Coach \nIMPORTANTE –  Las cantidades transferidas no son desembolsables a excepción de que se solicite con 7 días de antelación a la celebración del taller. En caso de no poder asistir al taller inscrito\, el/la participante podrá optar por asistir a otro taller de los programados en el plazo de 90 días o bien hacer una subrogación a otra persona para el taller inscrito o bien para otro posterior en 90 días. \nNOTA – Jesús Ortega Coaching se reserva la opción de cancelar este taller en caso de no cubrir un número suficiente de inscritos. En ese caso Jesús Ortega Coaching se compromete a la devolución de lo pagado a los que ya estuvieran inscritos. \n 
URL:https://jesuscoaching.es/event/emocion-pensamiento-jesus-ortega-coach/
CATEGORIES:Autoestima,Coaching,Crecimiento Personal,Inteligencia Emocional,Nutrición
ATTACH;FMTTYPE=image/jpeg:https://jesuscoaching.es/wp-content/uploads/2022/07/Emocion-y-Pensamiento-Verde-web.jpg
END:VEVENT
BEGIN:VEVENT
DTSTART;TZID=UTC:20220727T180000
DTEND;TZID=UTC:20220727T200000
DTSTAMP:20260421T191304
CREATED:20220710T174256Z
LAST-MODIFIED:20220710T174342Z
UID:8803-1658944800-1658952000@jesuscoaching.es
SUMMARY:27 jul -  "RESOLUCIÓN DE CONFLICTOS" - Tardes Verdes Online
DESCRIPTION:MIÉRCOLES 27 JULIO – Te presento el Taller Online «RESOLUCIÓN DE CONFLICTOS». El propósito de este taller es aportarte una serie de herramientas fundamentales para la resolución de conflictos con nuestras parejas\, hijos y familiares. Estará enfocado desde las Competencias de Inteligencia Emocional y Coaching\, \nDesde el reconocimiento de nuestro patrón de actitud subconsciente en los conflictos y asumiéndolos\, podremos utilizar de manera consciente técnicas de habilidades sociales que nos peritan expresarnos con libertad en momentos de tensión durante los conflictos. \nTrabajaremos con los estos condicionantes que intervienen en los conflictos: \n\nNuestro estilo de personalidad.\nNuestra autoestima.\nNuestra relación con la asertividad.\nNuestra comunicación clara y asertiva.\nNuestra relación con los Derechos Asertivos.\nNuestras habilidades sociales.\nNuestra dignidad humana.\nEl respeto y la igualdad entre personas.\nEl perdón.\n\nAsimismo\, adquiriremos conocimientos de los orígenes de las distintas posiciones en los conflictos y adquirir también la seguridad necesaria para pedir las oportunas explicaciones. El propósito de lo expuesto con anterioridad no es otro que todas las partes puedan expresarse y escuchar desde el yo adulto\, poner el foco en las soluciones y no en los problemas que originaron el conflicto. \nUtilizando las técnicas de Habilidades Sociales en los Conflictos podremos proponer soluciones ganar/ganar y que todas las partes participen de ello. \nCuando tienes un conflicto ¿lo afrontas o lo evitas? … ¿Cómo te hace sentir mantener un conflicto sin resolverlo?…  \nTe daré las claves para que manejes ese conflicto hasta resolverlo! \nCONEXIÓN EN DIRECTO A TRAVÉS DE GOOGLE MEET \n\n  \nA lo largo de 2 horas aprox. y de forma online podrás conocer de manera específica y tangible el mecanismo y las herramientas del tema que nos ocupa en este taller. \n\n  \nIMPORTANTE: Reserva tu plaza por WhatsApp o SMS (no llamadas) al 637 619 997 con la palabra «VERDE + tu nombre + teléfono» (Ejemplo: VERDE Jesús 637 619 997) – y me pondré en contacto contigo lo antes posible. \nPrecio: 14 € \nFecha: miércoles 27 de julio. \nHorario: de 18:00 a 20:00 h. (Enviaré el enlace para la conexión a las 17:45 h para que te conectes cuando quieras) \n\n  \nFORMAS DE PAGO DE LA RESERVA: \nPago por Transferencia: a la cuenta La Caixa \nIBAN: ES24 2100 8457 3102 0008 9714 \nTITULAR: La Caixa  Coaching Cordis\, S.L. \n___________________________________ \nPago por Bizum: Envío por móvil con al  número 695 663 005 \n___________________________________ \nIngreso en cajero de Caixa: Ingreso directo (sin comisión) en cajero de Caixa. Muy importante poner tu  número de móvil para poder localizarte. \n\n  \nESTE TALLER SÓLO SE REALIZARÁ SI HAY UN MÍNIMO DE 6 PARTICIPANTES  \n¡Nos vemos pronto! \nJesús Ortega Coach \nIMPORTANTE –  Las cantidades transferidas no son desembolsables a excepción de que se solicite con 7 días de antelación a la celebración del taller. En caso de no poder asistir al taller inscrito\, el/la participante podrá optar por asistir a otro taller de los programados en el plazo de 90 días o bien hacer una subrogación a otra persona para el taller inscrito o bien para otro posterior en 90 días. \nNOTA – Jesús Ortega Coaching se reserva la opción de cancelar este taller en caso de no cubrir un número suficiente de inscritos. En ese caso Jesús Ortega Coaching se compromete a la devolución de lo pagado a los que ya estuvieran inscritos. \n 
URL:https://jesuscoaching.es/event/resolucion-conflictos-jesus-ortega-coach/
CATEGORIES:Autoestima,Coaching,Crecimiento Personal,Inteligencia Emocional,Online
ATTACH;FMTTYPE=image/jpeg:https://jesuscoaching.es/wp-content/uploads/2022/07/Resolucion-de-conflictos-web.jpg
END:VEVENT
END:VCALENDAR