BEGIN:VCALENDAR
VERSION:2.0
PRODID:-//Jesús Ortega Coach Emocional - ECPv5.4.0.2//NONSGML v1.0//EN
CALSCALE:GREGORIAN
METHOD:PUBLISH
X-WR-CALNAME:Jesús Ortega Coach Emocional
X-ORIGINAL-URL:https://jesuscoaching.es
X-WR-CALDESC:Eventos para Jesús Ortega Coach Emocional
BEGIN:VTIMEZONE
TZID:UTC
BEGIN:STANDARD
TZOFFSETFROM:+0000
TZOFFSETTO:+0000
TZNAME:UTC
DTSTART:20210101T000000
END:STANDARD
END:VTIMEZONE
BEGIN:VEVENT
DTSTART;TZID=UTC:20210729T190000
DTEND;TZID=UTC:20210729T200000
DTSTAMP:20260422T131845
CREATED:20210708T161958Z
LAST-MODIFIED:20210726T080054Z
UID:7977-1627585200-1627588800@jesuscoaching.es
SUMMARY:29 jul - Conferencia GRATUITA Online Streaming - Presentación del Proceso 90D6
DESCRIPTION:Jueves 29 de julio – Conferencia Online de Presentación del Proceso 90D6 de CRECIMIENTO PERSONAL. Será una presentación en  DIRECTO e interactiva. Haré la presentación de los Procesos 90D6\, Proceso 21D4 Otoño y Proceso CONECTA 90D6. Para ello te mostraré mi experiencia en los últimos 10 años en Empresa de Procesos de Transformación Personal así como mi propia empresa de Inteligencia Emocional y Coaching con la que\, además de Coaching Personal\, Talleres monográficos y talleres en Empresas\, he realizado ya 5 Procesos 90DÍAS. Cuando alguien tenga alguna duda o quiera compartir\, podrá hacerlo directamente para ser contestado. \n90DÍAS es un proceso de Coaching e Inteligencia Emocional basado el el descubrimiento experiencial. A través de ejercicios y dinámicas los participantes podrán obtener una “fotografía” de cuáles son las actitudes y pensamientos subconscientes en sus conductas y\, por tanto\, a los resultados que obtienen en su vida diaria. Como en el clásico método socrático (origen del “coaching”\, método de aprendizaje muy conocido y practicado en el ámbito empresarial y deportivo) en el Proceso 90DÍAS no se te facilitaran respuestas a preguntas sino que tú mismo encontrarás las respuestas a tus preguntas a través de tu propia observación en las dinámicas y cómo ellas pueden ser un fiel reflejo de la manera en que actúas en tu vida diaria. \n\n  \nInformación del Proceso 90D6 AQUÍ \n\n  \nInformación del Proceso 21D3 Otoño AQUÍ \n\n  \nInformación del Proceso CONECTA 90D6 AQUÍ \n\n  \n\n  \nPARA INSCRIBIRTE A LA CONFERENCIA: \nPuedes inscribirte enviando un WhatsApp al móvil 637 619 997 con “tu nombre” y la palabra «CONFE» \nEsta Conferencia Online será a través de Zoom emitidos con 600 Mg de fibra óptica. \nPrecio: GRATUITA \nFecha: jueves 29 de julio. \nHorario: de 19:00 a 20:00 h. (Enviaré el enlace para la conexión a las 18:45 h para que te conectes cuando quieras) \nIMPORTANTE –  Esta conferencia podría cancelarse en caso necesario. En este caso te avisaría con tiempo suficiente.
URL:https://jesuscoaching.es/event/conferencia-online-streaming-90d6-jesus-ortega-coach/
CATEGORIES:Autoestima,Coaching,Inteligencia Emocional,Online
END:VEVENT
END:VCALENDAR