BEGIN:VCALENDAR
VERSION:2.0
PRODID:-//Jesús Ortega Coach Emocional - ECPv5.4.0.2//NONSGML v1.0//EN
CALSCALE:GREGORIAN
METHOD:PUBLISH
X-WR-CALNAME:Jesús Ortega Coach Emocional
X-ORIGINAL-URL:https://jesuscoaching.es
X-WR-CALDESC:Eventos para Jesús Ortega Coach Emocional
BEGIN:VTIMEZONE
TZID:UTC
BEGIN:STANDARD
TZOFFSETFROM:+0000
TZOFFSETTO:+0000
TZNAME:UTC
DTSTART:20220101T000000
END:STANDARD
END:VTIMEZONE
BEGIN:VEVENT
DTSTART;TZID=UTC:20220724T180000
DTEND;TZID=UTC:20220724T200000
DTSTAMP:20260421T085507
CREATED:20220710T175752Z
LAST-MODIFIED:20220725T182500Z
UID:8810-1658685600-1658692800@jesuscoaching.es
SUMMARY:3 ago -  "EMOCIÓN Y PENSAMIENTO" - Tardes Verdes Online
DESCRIPTION:MIÉRCOLES 3 AGOSTO – Te presento el Taller Online «EMOCIÓN Y PENSAMIENTO». El propósito de este taller es aportarte una serie de herramientas fundamentales para la Gestión Emocional y cómo utilizar tu cerebro para elegir tus sentimientos. Estará enfocado desde las Competencias de Inteligencia Emocional y Coaching\, \nConoceremos las emociones básicas\, el reconocimiento y el propósito de las mismas. Trabajaremos el reconocimiento de las 6 emociones básicas y los cambios fisiológicos asociados a ellas. \nTambién se trabajará la información que traen asociada cada emoción básica y cómo usarla en la consecución de nuestros objetivos y metas. \nTrataremos las competencias de Inteligencia Emociona como conductoras hacia el éxito. Concretamente la importancia de tener un fin en mente y la Responsabilidad como motor de resultados extraordinarios en el ámbito laboral y personal. \nEstamos educados en la creencia de que las cosas “son como son”\, sin embargo\, son muchas las veces en que chocamos con la “realidad” de otros y podemos encontrar un desajuste grande entre lo que percibimos y el feedback que la realidad nos devuelve. Uno de los supuestos básicos de  la PNL (Programación Neurolingüística) nos dice que el mapa no es el territorio\, y que este “mapa” interior viene determinado por una serie de procesos que distorsionan dicha percepción. \nPara ser personas emocionalmente inteligentes requerimos estar alertas a cuáles son las interpretaciones   que generan nuestros sentimientos para poder elegir aquellos sentimientos que nos van a hacer realmente felices. Entrenar la mente para evitar el “secuestro emocional” (Daniel Goleman\, Inteligencia Emocional) puede entenderse como la base de la inteligencia emocional y\, por lo tanto\, del éxito y la felicidad. \n¿Quieres ser efectivo a la hora de gestionar tus emociones?\, ¿te gustaría gestionar tus emociones y pensamientos para el resultado que quieres obtener? ¿Cómo sería generar sentimientos saludables que te lleven a ser feliz? \nCONEXIÓN EN DIRECTO A TRAVÉS DE GOOGLE MEET \n\n  \nA lo largo de 2 horas aprox. y de forma online podrás conocer de manera específica y tangible el mecanismo y las herramientas del tema que nos ocupa en este taller. \n\n  \nIMPORTANTE: Reserva tu plaza por WhatsApp o SMS (no llamadas) al 637 619 997 con la palabra «VERDE + tu nombre + teléfono» (Ejemplo: VERDE Jesús 637 619 997) – y me pondré en contacto contigo lo antes posible. \nPrecio: 14 € \nFecha: miércoles 3 de agosto. \nHorario: de 18:00 a 20:00 h. (Enviaré el enlace para la conexión a las 17:45 h para que te conectes cuando quieras) \n\n  \nFORMAS DE PAGO DE LA RESERVA: \nPago por Transferencia: a la cuenta La Caixa \nIBAN: ES24 2100 8457 3102 0008 9714 \nTITULAR: La Caixa  Coaching Cordis\, S.L. \n___________________________________ \nPago por Bizum: Envío por móvil con al  número 695 663 005 \n___________________________________ \nIngreso en cajero de Caixa: Ingreso directo (sin comisión) en cajero de Caixa. Muy importante poner tu  número de móvil para poder localizarte. \n\n  \nESTE TALLER SÓLO SE REALIZARÁ SI HAY UN MÍNIMO DE 6 PARTICIPANTES  \n¡Nos vemos pronto! \nJesús Ortega Coach \nIMPORTANTE –  Las cantidades transferidas no son desembolsables a excepción de que se solicite con 7 días de antelación a la celebración del taller. En caso de no poder asistir al taller inscrito\, el/la participante podrá optar por asistir a otro taller de los programados en el plazo de 90 días o bien hacer una subrogación a otra persona para el taller inscrito o bien para otro posterior en 90 días. \nNOTA – Jesús Ortega Coaching se reserva la opción de cancelar este taller en caso de no cubrir un número suficiente de inscritos. En ese caso Jesús Ortega Coaching se compromete a la devolución de lo pagado a los que ya estuvieran inscritos. \n 
URL:https://jesuscoaching.es/event/emocion-pensamiento-jesus-ortega-coach/
CATEGORIES:Autoestima,Coaching,Crecimiento Personal,Inteligencia Emocional,Nutrición
ATTACH;FMTTYPE=image/jpeg:https://jesuscoaching.es/wp-content/uploads/2022/07/Emocion-y-Pensamiento-Verde-web.jpg
END:VEVENT
END:VCALENDAR